BEGIN:VCALENDAR
VERSION:2.0
PRODID:-//HLS Tax Law and Financial Regulation Students Association - ECPv6.15.0//NONSGML v1.0//EN
CALSCALE:GREGORIAN
METHOD:PUBLISH
X-ORIGINAL-URL:https://orgs.law.harvard.edu/taxlaw
X-WR-CALDESC:Events for HLS Tax Law and Financial Regulation Students Association
REFRESH-INTERVAL;VALUE=DURATION:PT1H
X-Robots-Tag:noindex
X-PUBLISHED-TTL:PT1H
BEGIN:VTIMEZONE
TZID:America/Halifax
BEGIN:DAYLIGHT
TZOFFSETFROM:-0400
TZOFFSETTO:-0300
TZNAME:ADT
DTSTART:20180311T060000
END:DAYLIGHT
BEGIN:STANDARD
TZOFFSETFROM:-0300
TZOFFSETTO:-0400
TZNAME:AST
DTSTART:20181104T050000
END:STANDARD
END:VTIMEZONE
BEGIN:VEVENT
DTSTART;TZID=America/Halifax:20180328T120500
DTEND;TZID=America/Halifax:20180328T130000
DTSTAMP:20260422T063430
CREATED:20160907T213558Z
LAST-MODIFIED:20180925T165800Z
UID:73-1522238700-1522242000@orgs.law.harvard.edu
SUMMARY:A Conversation with Professor Daniel Tarullo
DESCRIPTION:One of Tax|Fin’s premier spring 2018 events was a discussion featuring Professor Daniel Tarullo. Professor Tarullo discussed current developments in monetary policy and financial regulation. He returned to Harvard Law School following time in government service\, teaching at other academic institutions\, and as a Visiting Scholar at the International Monetary Fund. From January 2009 to April 2017\, he served on the Board of Governors of the Federal Reserve System as the oversight governor for supervision and regulation where he led the Board’s financial regulatory reforms\, including implementation of the Dodd-Frank Act\, and revamped the Federal Reserve’s approach to the supervision of systemically important financial institutions. He was also the Fed’s representative to the Financial Stability Board (FSB)\, serving as chair of the FSB’s Committee on Supervision and Regulation\, and chaired the interagency Federal Financial Institutions Examination Council. \n \n  \nStay tuned for more exciting events this semester!
URL:https://orgs.law.harvard.edu/taxlaw/event/a-conversation-with-professor-daniel-tarullo/
LOCATION:WCC 1015 Classroom
END:VEVENT
END:VCALENDAR