BEGIN:VCALENDAR
VERSION:2.0
PRODID:-//La Alianza - ECPv6.15.0//NONSGML v1.0//EN
CALSCALE:GREGORIAN
METHOD:PUBLISH
X-WR-CALNAME:La Alianza
X-ORIGINAL-URL:https://orgs.law.harvard.edu/alianza
X-WR-CALDESC:Events for La Alianza
REFRESH-INTERVAL;VALUE=DURATION:PT1H
X-Robots-Tag:noindex
X-PUBLISHED-TTL:PT1H
BEGIN:VTIMEZONE
TZID:UTC
BEGIN:STANDARD
TZOFFSETFROM:+0000
TZOFFSETTO:+0000
TZNAME:UTC
DTSTART:20160101T000000
END:STANDARD
END:VTIMEZONE
BEGIN:VTIMEZONE
TZID:UTC
BEGIN:STANDARD
TZOFFSETFROM:+0000
TZOFFSETTO:+0000
TZNAME:UTC
DTSTART:20150101T000000
END:STANDARD
END:VTIMEZONE
BEGIN:VEVENT
DTSTART;TZID=UTC:20170413T190000
DTEND;TZID=UTC:20170413T210000
DTSTAMP:20260423T161606
CREATED:20170227T175429Z
LAST-MODIFIED:20250301T003435Z
UID:515-1492110000-1492117200@orgs.law.harvard.edu
SUMMARY:Spring Networking Reception
DESCRIPTION:Held in Hark South.
URL:https://orgs.law.harvard.edu/alianza/event/spring-networking-reception/
END:VEVENT
BEGIN:VEVENT
DTSTART;TZID=UTC:20170411T191500
DTEND;TZID=UTC:20170411T200000
DTSTAMP:20260423T161606
CREATED:20170227T174433Z
LAST-MODIFIED:20170227T174433Z
UID:508-1491938100-1491940800@orgs.law.harvard.edu
SUMMARY:April Community Meeting
DESCRIPTION:
URL:https://orgs.law.harvard.edu/alianza/event/april-community-meeting/
END:VEVENT
BEGIN:VEVENT
DTSTART;VALUE=DATE:20170330
DTEND;VALUE=DATE:20170331
DTSTAMP:20260423T161606
CREATED:20170227T175457Z
LAST-MODIFIED:20170227T175543Z
UID:516-1490832000-1490918399@orgs.law.harvard.edu
SUMMARY:Simpson Thacher Mock Interview Program & Reception
DESCRIPTION:
URL:https://orgs.law.harvard.edu/alianza/event/cleary-fireside-chat/
END:VEVENT
BEGIN:VEVENT
DTSTART;TZID=UTC:20170322T191500
DTEND;TZID=UTC:20170322T200000
DTSTAMP:20260423T161606
CREATED:20170227T174347Z
LAST-MODIFIED:20170227T174347Z
UID:507-1490210100-1490212800@orgs.law.harvard.edu
SUMMARY:March Community Meeting
DESCRIPTION:
URL:https://orgs.law.harvard.edu/alianza/event/march-community-meeting/
END:VEVENT
BEGIN:VEVENT
DTSTART;VALUE=DATE:20170315
DTEND;VALUE=DATE:20170316
DTSTAMP:20260423T161606
CREATED:20170227T174852Z
LAST-MODIFIED:20170227T174852Z
UID:511-1489536000-1489622399@orgs.law.harvard.edu
SUMMARY:Volunteer Opportunity: Diversity Day at Charlestown High School
DESCRIPTION:La Alianza members are being requested to present a “Know Your Rights” workshop to students at Charlestown High School.
URL:https://orgs.law.harvard.edu/alianza/event/volunteer-opportunity-diversity-day-at-charlestown-high-school/
END:VEVENT
BEGIN:VEVENT
DTSTART;VALUE=DATE:20170303
DTEND;VALUE=DATE:20170306
DTSTAMP:20260423T161606
CREATED:20170227T174603Z
LAST-MODIFIED:20170227T174603Z
UID:509-1488499200-1488758399@orgs.law.harvard.edu
SUMMARY:Celebration of Latino Alumni Weekend
DESCRIPTION:
URL:https://orgs.law.harvard.edu/alianza/event/celebration-of-latino-alumni-weekend/
END:VEVENT
BEGIN:VEVENT
DTSTART;TZID=UTC:20170302T173000
DTEND;TZID=UTC:20170302T193000
DTSTAMP:20260423T161606
CREATED:20170227T174638Z
LAST-MODIFIED:20170227T174748Z
UID:510-1488475800-1488483000@orgs.law.harvard.edu
SUMMARY:Celebration of Latino Alumni Mentoring Reception
DESCRIPTION:Dinner and hors d’oeuvres provided.
URL:https://orgs.law.harvard.edu/alianza/event/celebration-of-latino-alumni-mentoring-reception/
END:VEVENT
BEGIN:VEVENT
DTSTART;TZID=UTC:20170224T190000
DTEND;TZID=UTC:20170224T210000
DTSTAMP:20260423T161606
CREATED:20170227T175238Z
LAST-MODIFIED:20170227T175238Z
UID:513-1487962800-1487970000@orgs.law.harvard.edu
SUMMARY:Social @ Park Restaurant
DESCRIPTION:
URL:https://orgs.law.harvard.edu/alianza/event/social-park-restaurant/
END:VEVENT
BEGIN:VEVENT
DTSTART;TZID=UTC:20170224T120000
DTEND;TZID=UTC:20170224T130000
DTSTAMP:20260423T161606
CREATED:20170227T175335Z
LAST-MODIFIED:20170227T175335Z
UID:514-1487937600-1487941200@orgs.law.harvard.edu
SUMMARY:Harvard Legal Aid Bureau: La Alianza & APALSA Information Session
DESCRIPTION:Held in WCC 3019.
URL:https://orgs.law.harvard.edu/alianza/event/harvard-legal-aid-bureau-la-alianza-apalsa-information-session/
END:VEVENT
BEGIN:VEVENT
DTSTART;TZID=UTC:20170223T150000
DTEND;TZID=UTC:20170223T170000
DTSTAMP:20260423T161606
CREATED:20170227T175738Z
LAST-MODIFIED:20170227T175738Z
UID:518-1487862000-1487869200@orgs.law.harvard.edu
SUMMARY:BSA Coffee Chat
DESCRIPTION:Held in Griswold 110.
URL:https://orgs.law.harvard.edu/alianza/event/bsa-coffee-chat/
END:VEVENT
BEGIN:VEVENT
DTSTART;VALUE=DATE:20170222
DTEND;VALUE=DATE:20170224
DTSTAMP:20260423T161606
CREATED:20170227T174951Z
LAST-MODIFIED:20170227T175045Z
UID:512-1487721600-1487894399@orgs.law.harvard.edu
SUMMARY:Harvard Immigration Project: Undocumented Conference
DESCRIPTION:WEDNESDAY: Keynote Slam Poet\, Marlene Mayren\, Milstein West B\, 12-1p \nTHURSDAY: Undocumented Students in the US Milstein West A\, 12-1:15p
URL:https://orgs.law.harvard.edu/alianza/event/harvard-immigration-project-undocumented-conference/
END:VEVENT
BEGIN:VEVENT
DTSTART;TZID=UTC:20160219T093000
DTEND;TZID=UTC:20160219T200000
DTSTAMP:20260423T161606
CREATED:20160210T041652Z
LAST-MODIFIED:20160210T041652Z
UID:466-1455874200-1455912000@orgs.law.harvard.edu
SUMMARY:Inaugural Harvard Latino Law Conference 2016
DESCRIPTION:La Alianza presents its inaugural Harvard Latino Law Conference on Friday\, February 19\, 2016 at Harvard Law School. The theme of the conference is Latino Voices Rising: Diverse Perspectives on the Law. Join us for an opportunity to hear from Latino leaders in the law\, academia\, and the judiciary and to meet other Latino law students and practitioners. \nAll are welcome! Please RSVP at this link to give us an idea of how many attendees to expect: https://www.eventbrite.com/e/la-alianza-inaugural-harvard-latino-law-conference-2016-tickets-21119422762
URL:https://orgs.law.harvard.edu/alianza/event/inaugural-harvard-latino-law-conference-2016/
LOCATION:Milstein West\, 1585 Massachusetts Ave\, Cambridge\, MA\, 02138\, United States
ORGANIZER;CN="La Alianza":MAILTO:alianza@mail.law.harvard.edu
END:VEVENT
BEGIN:VEVENT
DTSTART;VALUE=DATE:20151017
DTEND;VALUE=DATE:20151018
DTSTAMP:20260423T161606
CREATED:20150923T131150Z
LAST-MODIFIED:20150923T131150Z
UID:430-1445040000-1445126399@orgs.law.harvard.edu
SUMMARY:Alianza Fall Retreat
DESCRIPTION:
URL:https://orgs.law.harvard.edu/alianza/event/alianza-fall-retreat/
END:VEVENT
BEGIN:VEVENT
DTSTART;TZID=UTC:20150929T120000
DTEND;TZID=UTC:20150929T130000
DTSTAMP:20260423T161606
CREATED:20150923T131243Z
LAST-MODIFIED:20150923T131243Z
UID:431-1443528000-1443531600@orgs.law.harvard.edu
SUMMARY:Succeeding in Law School (Student Panel)
DESCRIPTION:
URL:https://orgs.law.harvard.edu/alianza/event/succeeding-in-law-school-student-panel/
LOCATION:Pound Hall 102
END:VEVENT
BEGIN:VEVENT
DTSTART;TZID=UTC:20150923T201500
DTEND;TZID=UTC:20150923T220000
DTSTAMP:20260423T161606
CREATED:20150923T131021Z
LAST-MODIFIED:20150923T131021Z
UID:428-1443039300-1443045600@orgs.law.harvard.edu
SUMMARY:Alianza LLM Welcome Reception
DESCRIPTION:
URL:https://orgs.law.harvard.edu/alianza/event/alianza-llm-welcome-reception/
LOCATION:Cambridge Queen’s Head\, 45 Quincy Street\, Cambridge\, MA\, United States
END:VEVENT
BEGIN:VEVENT
DTSTART;TZID=UTC:20150923T191500
DTEND;TZID=UTC:20150923T201500
DTSTAMP:20260423T161606
CREATED:20150923T130805Z
LAST-MODIFIED:20150923T130805Z
UID:426-1443035700-1443039300@orgs.law.harvard.edu
SUMMARY:First Alianza General Body Meeting
DESCRIPTION:
URL:https://orgs.law.harvard.edu/alianza/event/first-alianza-general-body-meeting/
LOCATION:WCC 1015
END:VEVENT
END:VCALENDAR